BEGIN:VCALENDAR
PRODID:-//eluceo/ical//2.0/EN
VERSION:2.0
CALSCALE:GREGORIAN
BEGIN:VEVENT
UID:1f9e60b7fc9561e0093b0da174d760af
DTSTAMP:20260420T084803Z
SUMMARY:Aushelfen in der Suppenküche der Karlskirche (Karl's Küche)
DESCRIPTION:Govornik(ci): 
URL:https://wien-belvedere.rotaract.at/bs/agenda/show/151262
DTSTART;TZID=Europe/Zurich:20260524T091500
DTEND;TZID=Europe/Zurich:20260524T131500
LOCATION:Hinter der Karlskirche (Kreuzherrengasse\, 1040 Wien)
CATEGORIES:Rotaract
END:VEVENT
BEGIN:VTIMEZONE
TZID:Europe/Zurich
BEGIN:DAYLIGHT
DTSTART:20260524T091500
TZNAME:CEST
TZOFFSETTO:+0200
TZOFFSETFROM:+0200
END:DAYLIGHT
END:VTIMEZONE
END:VCALENDAR
