BEGIN:VCALENDAR
PRODID:-//eluceo/ical//2.0/EN
VERSION:2.0
CALSCALE:GREGORIAN
BEGIN:VEVENT
UID:a5d0241dffeacf460ea32b9d5d915ee4
DTSTAMP:20260420T090509Z
SUMMARY:Aushelfen in der Suppenküche der Karlskirche (Karl's Küche)
DESCRIPTION:Govornik(ci): 
URL:https://wien-belvedere.rotaract.at/bs/agenda/show/151260
DTSTART;TZID=Europe/Zurich:20260426T091500
DTEND;TZID=Europe/Zurich:20260426T131500
LOCATION:Hinter der Karlskirche (Kreuzherrengasse\, 1040 Wien)
CATEGORIES:Rotaract
END:VEVENT
BEGIN:VTIMEZONE
TZID:Europe/Zurich
BEGIN:DAYLIGHT
DTSTART:20260426T091500
TZNAME:CEST
TZOFFSETTO:+0200
TZOFFSETFROM:+0200
END:DAYLIGHT
END:VTIMEZONE
END:VCALENDAR
